Workbook

Sheet Instrucciones
A1: INSTRUCCIONES DE DILIGENCIAMIENTO
A3: Campo | B3: Responsable | C3: Regla | D3: Observación
A4: Ítem | B4: CuencaVerde | C4: No modificar | D4: Código de la actividad.
A5: Descripción | B5: CuencaVerde | C5: No modificar | D5: Debe coincidir con el Anexo Técnico.
A6: Unidad | B6: CuencaVerde | C6: No modificar | D6: Unidad contractual de medida.
A7: Cantidad | B7: CuencaVerde | C7: No modificar | D7: Cantidad estimada para efectos de comparación de ofertas.
A8: APU por actividad | B8: Oferente | C8: Diligenciar | D8: Debe presentarse un APU para cada uno de los 16 ítems cotizables.
A9: Valor unitario ofertado | B9: Automático | C9: No modificar | D9: Se obtiene del precio unitario total del APU correspondiente.
A10: Valor total ofertado | B10: Automático | C10: No modificar | D10: Cantidad × valor unitario ofertado.
A11: Valor total de la oferta | B11: Automático | C11: No modificar | D11: Sumatoria de todos los ítems cotizados.
A12: Material vegetal | B12: Distrito/Contratista, según APU | C12: Cotizar únicamente cuando corresponda | D12: En los segundos mantenimientos de 1.736 y 2.887 árboles/ha, las plántulas de resiembra serán suministradas por el contratista. En los demás casos, cuando el material vegetal sea suministrado por el Distrito, el oferente deberá incluir únicamente los costos asociados a cargue, transporte, descargue, manejo y distribución.
A13: Cantidades ejecutadas | B13: Supervisión | C13: Según ejecución real | D13: Solo se pagarán cantidades efectivamente ejecutadas, verificadas y recibidas a satisfacción.

Sheet Oferta Económica
A1: ANEXO – OFERTA ECONÓMICA
A2: Proceso: Ejecución de actividades de establecimiento y mantenimiento de acciones de restauración forestal, así como cercado y amojonamiento en cuencas abastecedoras internas.
A4: Ítem | B4: Descripción de la actividad | C4: Unidad | D4: Cantidad | E4: Valor unitario ofertado | F4: Valor total ofertado
A5: 1 | B5: COMPONENTE 2. ESTABLECIMIENTOS Y MANTENIMIENTOS
A6: 1.01 | B6: Establecimiento PFM nuevos densidad 2.000 árb/ha | C6: ha | D6: 12 | E6: =+'APU 1.01 Estab 2000'!F46 -> 0 | F6: =IF(OR(D6="",E6=""),"",D6*E6) -> 0
A7: 1.02 | B7: 1ra ronda mantenimiento densidad 600 árb/ha sin fertilización y sin resiembra | C7: ha | D7: 8 | E7: =+'APU 1.02 Mto1 600'!F32 -> 0 | F7: =IF(OR(D7="",E7=""),"",D7*E7) -> 0
A8: 1.03 | B8: 2da ronda mantenimiento densidad 600 árb/ha con fertilización y con resiembra | C8: ha | D8: 8 | E8: =+'APU1.03 Mto2 600'!F36 -> 0 | F8: =IF(OR(D8="",E8=""),"",D8*E8) -> 0
A9: 1.04 | B9: 1ra ronda mantenimiento densidad 2.000 árb/ha sin fertilización y sin resiembra | C9: ha | D9: 47.5 | E9: =+'APU 1.04 Mto1 2000'!F33 -> 0 | F9: =IF(OR(D9="",E9=""),"",D9*E9) -> 0
A10: 1.05 | B10: 2da ronda mantenimiento densidad 2.000 árb/ha con fertilización y con resiembra | C10: ha | D10: 35.5 | E10: =+'APU1.05 Mto2 2000'!F41 -> 0 | F10: =IF(OR(D10="",E10=""),"",D10*E10) -> 0
A11: 1.06 | B11: 1ra ronda mantenimiento densidad 1.736 árb/ha sin fertilización y sin resiembra | C11: ha | D11: 12 | E11: =+'APU 1.06 Mto1 1736'!F33 -> 0 | F11: =IF(OR(D11="",E11=""),"",D11*E11) -> 0
A12: 1.07 | B12: 2da ronda mantenimiento densidad 1.736 árb/ha con fertilización y con resiembra | C12: ha | D12: 12 | E12: =+'APU 1.07 Mto2 1736'!F41 -> 0 | F12: =IF(OR(D12="",E12=""),"",D12*E12) -> 0
A13: 1.08 | B13: 1ra ronda mantenimiento densidad 2.887 árb/ha sin fertilización y sin resiembra | C13: ha | D13: 28.5 | E13: =+'APU 1.08 Mto1 2887'!F33 -> 0 | F13: =IF(OR(D13="",E13=""),"",D13*E13) -> 0
A14: 1.09 | B14: 2da ronda mantenimiento densidad 2.887 árb/ha con fertilización y con resiembra | C14: ha | D14: 28.5 | E14: =+'APU 1.09 Mto2 2887'!F41 -> 0 | F14: =IF(OR(D14="",E14=""),"",D14*E14) -> 0
A15: 1.10 | B15: 1ra ronda mantenimiento densidad 2.036 árb/ha sin fertilización y sin resiembra | C15: ha | D15: 10 | E15: =+'APU 1.10 Mto1 2036'!F33 -> 0 | F15: =IF(OR(D15="",E15=""),"",D15*E15) -> 0
A16: 1.11 | B16: 2da ronda mantenimiento densidad 2.036 árb/ha con fertilización y con resiembra | C16: ha | D16: 10 | E16: =+'APU 1.11 Mto2 2036'!F41 -> 0 | F16: =IF(OR(D16="",E16=""),"",D16*E16) -> 0
A17: 2 | B17: COMPONENTE 3. CERCADO Y AMOJONAMIENTO | F17: =IF(OR(D17="",E17=""),"",D17*E17)
A18: 2.01 | B18: Rocería y limpieza previa | C18: m² | D18: 500 | E18: =+'APU 2.01 Rocería'!F54 -> 0 | F18: =IF(OR(D18="",E18=""),"",D18*E18) -> 0
A19: 2.02 | B19: Suministro e instalación de mojón plástico | C19: un | D19: 10 | E19: =+'APU 2.02 Mojón'!F54 -> 0 | F19: =IF(OR(D19="",E19=""),"",D19*E19) -> 0
A20: 2.03 | B20: Instalación de cerco | C20: m | D20: 1000 | E20: =+'APU 2.03 Cerco'!F54 -> 0 | F20: =IF(OR(D20="",E20=""),"",D20*E20) -> 0
A21: 2.04 | B21: Anclado para poste de madera inmunizada | C21: un | D21: 67 | E21: =+'APU 2.04 Anclaje'!F54 -> 0 | F21: =IF(OR(D21="",E21=""),"",D21*E21) -> 0
A22: 2.05 | B22: Mantenimiento de cercos existentes de madera inmunizada | C22: m | D22: 20 | E22: =+'APU 2.05 Mto cerco'!F54 -> 0 | F22: =IF(OR(D22="",E22=""),"",D22*E22) -> 0
F23: =IF(OR(D23="",E23=""),"",D23*E23)
A24: VALOR TOTAL DE LA OFERTA | F24: =SUM(F6,F7,F8,F9,F10,F11,F12,F13,F14,F15,F16,F18,F19,F20,F21,F22) -> 0
A27: NOTAS PARA EL OFERENTE
A28: 1. El oferente deberá diligenciar un APU independiente para cada una de las actividades incluidas en la oferta económica.
A29: 2. El valor unitario de cada actividad en esta hoja se calcula automáticamente a partir del APU correspondiente y no deberá modificarse directamente.
A30: 3. El valor total de cada ítem se calcula automáticamente como el producto entre la cantidad indicada y el valor unitario obtenido del APU.
A31: 4. Los precios unitarios deberán incluir todos los costos directos e indirectos necesarios para la adecuada ejecución de la actividad, salvo aquellos elementos expresamente suministrados por CuencaVerde o por el Distrito.
A32: 5. El suministro del material vegetal dependerá de la actividad correspondiente. En los APUs asociados a los segundos mantenimientos de densidades de 1.736 y 2.887 árboles/ha, las plántulas requeridas para resiembra serán suministradas por el contratista y su costo deberá incluirse dentro del respectivo APU. En las demás actividades en las que el material vegetal sea suministrado por el Distrito, el oferente no deberá cotizar su adquisición, pero deberá incluir en el APU correspondiente los costos de cargue, transporte, descargue, manejo y distribución que sean de su responsabilidad.
A33: 6. Las cantidades indicadas son estimadas y podrán variar durante la ejecución. Solo se pagarán las cantidades efectivamente ejecutadas, verificadas y recibidas a satisfacción.
A34: 7. El oferente no podrá modificar las descripciones, unidades ni cantidades establecidas.
A35: 8. Todos los valores deberán expresarse en pesos colombianos.
A36: 9. La sumatoria de los valores totales constituirá el valor total de la oferta económica, la cual no podrá superar el presupuesto oficial del proceso.

Sheet APU 1.01 Estab 2000
A1: ANÁLISIS DE PRECIOS UNITARIOS – APU DEL OFERENTE
A3: Ítem | B3: 1.01
A4: Descripción | B4: Establecimiento PFM nuevos densidad 2.000 árb/ha
A5: Unidad contractual | B5: ha
A6: Cantidad estimada | B6: 12
A7: Jornal
A8: Tipo de recurso | B8: Descripción | C8: Unidad | D8: Cantidad unidades/ha | E8: Valor unitario | F8: Valor parcial
A9: MANO DE OBRA
A10: Capataz | B10: Se debe calcular un jornal diferencial para el capataz (técnico) que debe estar acorde a las exigencias técnicas para la realización de las actividades solicitadas para esta plantación | C10: Jornal 1 | E10: 0 | F10: =+D10*E10 -> 0
A11: Adecuacion de Terreno | C11: Jornal | E11: =+$B$7 -> 0 | F11: =+D11*E11 -> 0
A12: Trazado | C12: Jornal | E12: =+$B$7 -> 0 | F12: =+D12*E12 -> 0
A13: Plateo | C13: Jornal | E13: =+$B$7 -> 0 | F13: =+D13*E13 -> 0
A14: Hoyado vaciado | C14: Jornal | E14: =+$B$7 -> 0 | F14: =+D14*E14 -> 0
A15: Descargue en vivero temporal | C15: Jornal | E15: =+$B$7 -> 0 | F15: =+D15*E15 -> 0
A16: Distribucion interna de plantulas | C16: Jornal | E16: =+$B$7 -> 0 | F16: =+D16*E16 -> 0
A17: Siembra (Incluye aplicación de hidroregulador y materia orgánica)-control fitosanitario | C17: Jornal | E17: =+$B$7 -> 0 | F17: =+D17*E17 -> 0
A18: Fertilizacion + Trasporte interno de Insumos | C18: Jornal | E18: =+$B$7 -> 0 | F18: =+D18*E18 -> 0
A19: VALOR PARCIAL MANO DE OBRA | F19: =SUM(F10:F18) -> 0
A21: MATERIALES E INSUMOS
A22: Cal dolomitica 100 g | C22: kg | D22: 200 | E22: 0 | F22: =+D22*E22 -> 0
A23: DAP (fosfato diamónico 18-46-0) 20 g | C23: kg | D23: 40 | E23: 0 | F23: =+D23*E23 -> 0
A24: Bórax 5 g | C24: kg | D24: 10 | E24: 0 | F24: =+D24*E24 -> 0
A25: Agrimins Granulado 10 g | C25: kg | D25: 20 | E25: 0 | F25: =+D25*E25 -> 0
A26: Micorrizas 20 g | C26: kg | D26: 40 | E26: 0 | F26: =+D26*E26 -> 0
A27: Insumo control Fitosanitario | C27: Kg | D27: 0.25 | E27: 0 | F27: =+D27*E27 -> 0
A28: Plantulas Distrito de Medellín | B28: Suministradas por la Secretaría del Medio Ambiente en el vivero Las Cometas. El contratista deberá cotizar para ello el cargue y el descargue, al igual que el transporte de las mismas, desde el vivero al sitio de siembra. | C28: Plántulas | D28: 2000
A29: Hidroregulador 3g/árbol | C29: Kg | D29: 6 | E29: 0 | F29: =+D29*E29 -> 0
A30: Sustrato Organico 400g/árbol(Suministrado por la Secretaría del Medio Ambiente) | B30: Suministrado por la Secretaría del Medio Ambiente en el Centro de Bienestar Animal La Perla, en Altavista. El contratista debe tener en cuenta el cargue y el descargue del sustrato y llevar los costales requeridos para la cantidad de materia orgánica a solicitar, además el transporte de este insumo debe ser contemplado en el ítem de transporte de insumos | C30: Kg | D30: 800
A31: VALOR PARCIAL MATERIALES E INSUMOS | F31: =SUM(F22:F30) -> 0
A33: HERRAMIENTAS Y EQUIPOS
A34: Herramientas y Equipos | B34: 5% mano de obra | F34: =+F19*0.05 -> 0
A35: VALOR PARCIAL HERRAMIENTAS Y EQUIPOS | F35: =SUM(F34) -> 0
F36: =IF(OR(D36="",E36=""),"",D36*E36)
A37: TRANSPORTE Y LOGÍSTICA
A38: Transporte y logística | B38: 5% Valor de materiales e insumos | F38: =+F31*0.05 -> 0
A39: VALOR PARCIAL TRANSPORTE Y LOGÍSTICA | F39: =SUM(F38) -> 0
F40: =IF(OR(D40="",E40=""),"",D40*E40)
A41: VIVIENDA FORESTAL
A42: Vivienda forestal | B42: alquiler vivienda forestal por Ha | F42: 0
A43: VALOR PARCIAL VIVIENDA FORESTAL | F43: =SUM(F42) -> 0
...

Sheet APU 1.02 Mto1 600
A1: ANÁLISIS DE PRECIOS UNITARIOS – APU DEL OFERENTE
A3: Ítem | B3: 1.02
A4: Descripción | B4: 1ra ronda mantenimiento densidad 600 árb/ha sin fertilización y sin resiembra
A5: Unidad contractual | B5: ha
A6: Cantidad estimada | B6: 8
A7: Jornal | B7: 0
A8: Tipo de recurso | B8: Descripción | C8: Unidad | D8: Cantidad unidades/ha | E8: Valor unitario | F8: Valor parcial
A9: MANO DE OBRA
A10: Capataz | B10: Se debe calcular un jornal diferencial para el capataz (técnico) que debe estar acorde a las exigencias técnicas para la realización de las actividades solicitadas para esta plantación | C10: Jornal 1 | E10: 0 | F10: =+D10*E10 -> 0
A11: Replateo+aporque | C11: Jornal | E11: =+$B$7 -> 0 | F11: =+D11*E11 -> 0
A12: Control fitosanitario | C12: Jornal | E12: =+$B$7 -> 0 | F12: =+D12*E12 -> 0
A13: VALOR PARCIAL MANO DE OBRA | F13: =SUM(F10:F12) -> 0
A15: MATERIALES E INSUMOS
A16: Insumo control Fitosanitario | C16: Kg | D16: 0.25 | E16: 0 | F16: =+D16*E16 -> 0
A17: VALOR PARCIAL MATERIALES E INSUMOS | F17: =SUM(F16:F16) -> 0
A19: HERRAMIENTAS Y EQUIPOS
A20: Herramientas y Equipos | B20: 5% mano de obra | F20: =+F13*0.05 -> 0
A21: VALOR PARCIAL HERRAMIENTAS Y EQUIPOS | F21: =SUM(F20) -> 0
F22: =IF(OR(D22="",E22=""),"",D22*E22)
A23: TRANSPORTE Y LOGÍSTICA
A24: Transporte y logística | B24: 5% Valor de materiales e insumos | F24: =+F17*0.05 -> 0
A25: VALOR PARCIAL TRANSPORTE Y LOGÍSTICA | F25: =SUM(F24) -> 0
F26: =IF(OR(D26="",E26=""),"",D26*E26)
A27: VIVIENDA FORESTAL
A28: Vivienda forestal | B28: alquiler vivienda forestal por Ha | F28: 0
A29: VALOR PARCIAL VIVIENDA FORESTAL | F29: =SUM(F28) -> 0
F30: =IF(OR(D30="",E30=""),"",D30*E30)
A32: PRECIO UNITARIO OFERTADO SEGÚN APU | F32: =+F13+F17+F21+F25+F29 -> 0
A35: NOTAS DE DILIGENCIAMIENTO
A36: 1. El oferente deberá desagregar los recursos que componen el precio unitario de la actividad y diligenciar únicamente las celdas resaltadas.
A37: 2. El valor parcial se calcula automáticamente como Cantidad/Rendimiento × Valor unitario.
A38: 3. El precio unitario del APU debe incluir todos los costos directos e indirectos necesarios para ejecutar la actividad de conformidad con el Anexo Técnico.
A39: 4. La omisión de un recurso necesario para la correcta ejecución de la actividad no dará lugar al reconocimiento de valores adicionales durante la ejecución contractual.
A40: 5. El suministro del material vegetal se realizará de acuerdo con lo establecido para cada actividad. Cuando el APU indique que las plántulas serán suministradas por el contratista, este deberá incluir su costo de adquisición y los demás costos asociados a su manejo y disposición en campo. Cuando el material vegetal sea suministrado por el Distrito, no deberá cotizarse su adquisición, pero deberán incluirse los costos de cargue, transporte, descargue, manejo y distribución que correspondan.
A41: 6. En las actividades de mantenimiento con fertilización, los insumos efectivamente requeridos podrán variar según las condiciones técnicas y edáficas del predio y las instrucciones de la supervisión.

Sheet APU1.03 Mto2 600
A1: ANÁLISIS DE PRECIOS UNITARIOS – APU DEL OFERENTE
A3: Ítem | B3: 1.03
A4: Descripción | B4: 2da ronda mantenimiento densidad 600 árb/ha con fertilización y con resiembra
A5: Unidad contractual | B5: ha
A6: Cantidad estimada | B6: 8
A7: Jornal | B7: 0
A8: Tipo de recurso | B8: Descripción | C8: Unidad | D8: Cantidad unidades/ha | E8: Valor unitario | F8: Valor parcial
A9: MANO DE OBRA
A10: Capataz | B10: Se debe calcular un jornal diferencial para el capataz (técnico) que debe estar acorde a las exigencias técnicas para la realización de las actividades solicitadas para esta plantación | C10: Jornal 1 | E10: 0 | F10: =+D10*E10 -> 0
A11: Replateo con aporque | C11: Jornal | E11: =+$B$7 -> 0 | F11: =+D11*E11 -> 0
A12: Replantar+aporque+distribución interna plántulas | C12: Jornal | E12: =+$B$7 -> 0 | F12: =+D12*E12 -> 0
A13: Fertilización+transporte interno de insumos | C13: Jornal | E13: =+$B$7 -> 0 | F13: =+D13*E13 -> 0
A14: Control fitosanitario | C14: Jornal | E14: =+$B$7 -> 0 | F14: =+D14*E14 -> 0
A15: VALOR PARCIAL MANO DE OBRA | F15: =SUM(F10:F14) -> 0
A17: MATERIALES E INSUMOS
A18: Cal dolomitica 100 g | C18: kg | D18: 60 | E18: 0 | F18: =+D18*E18 -> 0
A19: Insumo control Fitosanitario | C19: Kg | D19: 0.25 | E19: 0 | F19: =+D19*E19 -> 0
A20: Plantulas Distrito de Medellín | B20: Suministradas por la Secretaría del Medio Ambiente en el vivero Las Cometas. El contratista deberá cotizar para ello el cargue y el descargue, al igual que el transporte de las mismas, desde el vivero al sitio de siembra. | C20: Plántulas | D20: 60
A21: VALOR PARCIAL MATERIALES E INSUMOS | F21: =SUM(F18:F20) -> 0
A23: HERRAMIENTAS Y EQUIPOS
A24: Herramientas y Equipos | B24: 5% mano de obra | F24: =+F15*0.05 -> 0
A25: VALOR PARCIAL HERRAMIENTAS Y EQUIPOS | F25: =SUM(F24) -> 0
F26: =IF(OR(D26="",E26=""),"",D26*E26)
A27: TRANSPORTE Y LOGÍSTICA
A28: Transporte y logística | B28: 5% Valor de materiales e insumos | F28: =+F21*0.05 -> 0
A29: VALOR PARCIAL TRANSPORTE Y LOGÍSTICA | F29: =SUM(F28) -> 0
F30: =IF(OR(D30="",E30=""),"",D30*E30)
A31: VIVIENDA FORESTAL
A32: Vivienda forestal | B32: alquiler vivienda forestal por Ha | F32: 0
A33: VALOR PARCIAL VIVIENDA FORESTAL | F33: =SUM(F32) -> 0
F34: =IF(OR(D34="",E34=""),"",D34*E34)
A36: PRECIO UNITARIO OFERTADO SEGÚN APU | F36: =+F15+F21+F25+F29+F33 -> 0
A39: NOTAS DE DILIGENCIAMIENTO
A40: 1. El oferente deberá desagregar los recursos que componen el precio unitario de la actividad y diligenciar únicamente las celdas resaltadas.
A41: 2. El valor parcial se calcula automáticamente como Cantidad/Rendimiento × Valor unitario.
A42: 3. El precio unitario del APU debe incluir todos los costos directos e indirectos necesarios para ejecutar la actividad de conformidad con el Anexo Técnico.
A43: 4. La omisión de un recurso necesario para la correcta ejecución de la actividad no dará lugar al reconocimiento de valores adicionales durante la ejecución contractual.
A44: 5. El suministro del material vegetal se realizará de acuerdo con lo establecido para cada actividad. Cuando el APU indique que las plántulas serán suministradas por el contratista, este deberá incluir su costo de adquisición y los demás costos asociados a su manejo y disposición en campo. Cuando el material vegetal sea suministrado por el Distrito, no deberá cotizarse su adquisición, pero deberán incluirse los costos de cargue, transporte, descargue, manejo y distribución que correspondan.
A45: 6. En las actividades de mantenimiento con fertilización, los insumos efectivamente requeridos podrán variar según las condiciones técnicas y edáficas del predio y las instrucciones de la supervisión.

Sheet APU 1.04 Mto1 2000
A1: ANÁLISIS DE PRECIOS UNITARIOS – APU DEL OFERENTE
A3: Ítem | B3: 1.04
A4: Descripción | B4: 1ra ronda mantenimiento densidad 2.000 árb/ha sin fertilización y sin resiembra
A5: Unidad contractual | B5: ha
A6: Cantidad estimada | B6: 47.5
A7: Jornal | B7: 0
A8: Tipo de recurso | B8: Descripción | C8: Unidad | D8: Cantidad unidades/ha | E8: Valor unitario | F8: Valor parcial
A9: MANO DE OBRA
A10: Capataz | B10: Se debe calcular un jornal diferencial para el capataz (técnico) que debe estar acorde a las exigencias técnicas para la realización de las actividades solicitadas para esta plantación | C10: Jornal 1 | E10: 0 | F10: =+D10*E10 -> 0
A11: Limpia | C11: Jornal | E11: =+$B$7 -> 0 | F11: =+D11*E11 -> 0
A12: Replateo+aporque | C12: Jornal | E12: =+$B$7 -> 0 | F12: =+D12*E12 -> 0
A13: Control fitosanitario | C13: Jornal | E13: =+$B$7 -> 0 | F13: =+D13*E13 -> 0
A14: VALOR PARCIAL MANO DE OBRA | F14: =SUM(F10:F13) -> 0
A16: MATERIALES E INSUMOS
A17: Insumo control Fitosanitario | C17: Kg | D17: 0.25 | E17: 0 | F17: =+D17*E17 -> 0
A18: VALOR PARCIAL MATERIALES E INSUMOS | F18: =SUM(F17:F17) -> 0
A20: HERRAMIENTAS Y EQUIPOS
A21: Herramientas y Equipos | B21: 5% mano de obra | F21: =+F14*0.05 -> 0
A22: VALOR PARCIAL HERRAMIENTAS Y EQUIPOS | F22: =SUM(F21) -> 0
F23: =IF(OR(D23="",E23=""),"",D23*E23)
A24: TRANSPORTE Y LOGÍSTICA
A25: Transporte y logística | B25: 5% Valor de materiales e insumos | F25: =+F18*0.05 -> 0
A26: VALOR PARCIAL TRANSPORTE Y LOGÍSTICA | F26: =SUM(F25) -> 0
F27: =IF(OR(D27="",E27=""),"",D27*E27)
A28: VIVIENDA FORESTAL
A29: Vivienda forestal | B29: alquiler vivienda forestal por Ha | F29: 0
A30: VALOR PARCIAL VIVIENDA FORESTAL | F30: =SUM(F29) -> 0
F31: =IF(OR(D31="",E31=""),"",D31*E31)
A33: PRECIO UNITARIO OFERTADO SEGÚN APU | F33: =+F14+F18+F22+F26+F30 -> 0
A36: NOTAS DE DILIGENCIAMIENTO
A37: 1. El oferente deberá desagregar los recursos que componen el precio unitario de la actividad y diligenciar únicamente las celdas resaltadas.
A38: 2. El valor parcial se calcula automáticamente como Cantidad/Rendimiento × Valor unitario.
A39: 3. El precio unitario del APU debe incluir todos los costos directos e indirectos necesarios para ejecutar la actividad de conformidad con el Anexo Técnico.
A40: 4. La omisión de un recurso necesario para la correcta ejecución de la actividad no dará lugar al reconocimiento de valores adicionales durante la ejecución contractual.
A41: 5. El suministro del material vegetal se realizará de acuerdo con lo establecido para cada actividad. Cuando el APU indique que las plántulas serán suministradas por el contratista, este deberá incluir su costo de adquisición y los demás costos asociados a su manejo y disposición en campo. Cuando el material vegetal sea suministrado por el Distrito, no deberá cotizarse su adquisición, pero deberán incluirse los costos de cargue, transporte, descargue, manejo y distribución que correspondan.
A42: 6. En las actividades de mantenimiento con fertilización, los insumos efectivamente requeridos podrán variar según las condiciones técnicas y edáficas del predio y las instrucciones de la supervisión.

Sheet APU1.05 Mto2 2000
A1: ANÁLISIS DE PRECIOS UNITARIOS – APU DEL OFERENTE
A3: Ítem | B3: 1.05
A4: Descripción | B4: 2da ronda mantenimiento densidad 2.000 árb/ha con fertilización y con resiembra
A5: Unidad contractual | B5: ha
A6: Cantidad estimada | B6: 35.5
A7: Jornal | B7: 0
A8: Tipo de recurso | B8: Descripción | C8: Unidad | D8: Cantidad unidades/ha | E8: Valor unitario | F8: Valor parcial
A9: MANO DE OBRA
A10: Capataz | B10: Se debe calcular un jornal diferencial para el capataz (técnico) que debe estar acorde a las exigencias técnicas para la realización de las actividades solicitadas para esta plantación | C10: Jornal 1 | E10: 0 | F10: =+D10*E10 -> 0
A11: Limpia | C11: Jornal | E11: =+$B$7 -> 0 | F11: =+D11*E11 -> 0
A12: Replateo con aporque | C12: Jornal | E12: =+$B$7 -> 0 | F12: =+D12*E12 -> 0
A13: Replantar+aporque+distribución interna plántulas | C13: Jornal | E13: =+$B$7 -> 0 | F13: =+D13*E13 -> 0
A14: Fertilización+transporte interno de insumos | C14: Jornal | E14: =+$B$7 -> 0 | F14: =+D14*E14 -> 0
A15: Control fitosanitario | C15: Jornal | E15: =+$B$7 -> 0 | F15: =+D15*E15 -> 0
A16: VALOR PARCIAL MANO DE OBRA | F16: =SUM(F10:F15) -> 0
A18: MATERIALES E INSUMOS
A19: Cal dolomitica 100 g | C19: Kg | D19: 200 | E19: 0 | F19: =+D19*E19 -> 0
A20: DAP (fosfato diamónico 18-46-0) 20 g | C20: Kg | D20: 40 | E20: 0 | F20: =+D20*E20 -> 0
A21: Bórax 5 g | C21: Kg | D21: 10 | E21: 0 | F21: =+D21*E21 -> 0
A22: Agrimins Granulado 10 g | C22: Kg | D22: 20 | E22: 0 | F22: =+D22*E22 -> 0
A23: Micorrizas 20 g | C23: Kg | D23: 40 | E23: 0 | F23: =+D23*E23 -> 0
A24: Insumo control Fitosanitario | C24: Kg | D24: 0.25 | E24: 0 | F24: =+D24*E24 -> 0
A25: Plántulas Distrito de Medellín | B25: Suministradas por la Secretaría del Medio Ambiente en el vivero Las Cometas. El contratista deberá cotizar para ello el cargue y el descargue, al igual que el transporte de las mismas, desde el vivero al sitio de siembra. | C25: Plántulas | D25: 200 | E25: 0 | F25: =+D25*E25 -> 0
A26: VALOR PARCIAL MATERIALES E INSUMOS | F26: =SUM(F19:F25) -> 0
A28: HERRAMIENTAS Y EQUIPOS
A29: Herramientas y Equipos | B29: 5% mano de obra | F29: =+F16*0.05 -> 0
A30: VALOR PARCIAL HERRAMIENTAS Y EQUIPOS | F30: =SUM(F29) -> 0
F31: =IF(OR(D31="",E31=""),"",D31*E31)
A32: TRANSPORTE Y LOGÍSTICA
A33: Transporte y logística | B33: 5% Valor de materiales e insumos | F33: =+F26*0.05 -> 0
A34: VALOR PARCIAL TRANSPORTE Y LOGÍSTICA | F34: =SUM(F33) -> 0
F35: =IF(OR(D35="",E35=""),"",D35*E35)
A36: VIVIENDA FORESTAL
A37: Vivienda forestal | B37: alquiler vivienda forestal por Ha | F37: 0
A38: VALOR PARCIAL VIVIENDA FORESTAL | F38: =SUM(F37) -> 0
F39: =IF(OR(D39="",E39=""),"",D39*E39)
A41: PRECIO UNITARIO OFERTADO SEGÚN APU | F41: =+F16+F26+F30+F34+F38 -> 0
A44: NOTAS DE DILIGENCIAMIENTO
A45: 1. El oferente deberá desagregar los recursos que componen el precio unitario de la actividad y diligenciar únicamente las celdas resaltadas.
A46: 2. El valor parcial se calcula automáticamente como Cantidad/Rendimiento × Valor unitario.
...

Sheet APU 1.06 Mto1 1736
A1: ANÁLISIS DE PRECIOS UNITARIOS – APU DEL OFERENTE
A3: Ítem | B3: 1.06
A4: Descripción | B4: 1ra ronda mantenimiento densidad 1.736 árb/ha sin fertilización y sin resiembra
A5: Unidad contractual | B5: ha
A6: Cantidad estimada | B6: 12
A7: Jornal | B7: 0
A8: Tipo de recurso | B8: Descripción | C8: Unidad | D8: Cantidad unidades/ha | E8: Valor unitario | F8: Valor parcial
A9: MANO DE OBRA
A10: Capataz | B10: Se debe calcular un jornal diferencial para el capataz (técnico) que debe estar acorde a las exigencias técnicas para la realización de las actividades solicitadas para esta plantación | C10: Jornal 1 | E10: 0 | F10: =+D10*E10 -> 0
A11: Limpia | C11: Jornal | E11: =+$B$7 -> 0 | F11: =+D11*E11 -> 0
A12: Replateo+aporque | C12: Jornal | E12: =+$B$7 -> 0 | F12: =+D12*E12 -> 0
A13: Control fitosanitario | C13: Jornal | E13: =+$B$7 -> 0 | F13: =+D13*E13 -> 0
A14: VALOR PARCIAL MANO DE OBRA | F14: =SUM(F10:F13) -> 0
A16: MATERIALES E INSUMOS
A17: Insumo control Fitosanitario | C17: Kg | D17: 0.25 | E17: 0 | F17: =+D17*E17 -> 0
A18: VALOR PARCIAL MATERIALES E INSUMOS | F18: =SUM(F17:F17) -> 0
A20: HERRAMIENTAS Y EQUIPOS
A21: Herramientas y Equipos | B21: 5% mano de obra | F21: =+F14*0.05 -> 0
A22: VALOR PARCIAL HERRAMIENTAS Y EQUIPOS | F22: =SUM(F21) -> 0
F23: =IF(OR(D23="",E23=""),"",D23*E23)
A24: TRANSPORTE Y LOGÍSTICA
A25: Transporte y logística | B25: 5% Valor de materiales e insumos | F25: =+F18*0.05 -> 0
A26: VALOR PARCIAL TRANSPORTE Y LOGÍSTICA | F26: =SUM(F25) -> 0
F27: =IF(OR(D27="",E27=""),"",D27*E27)
A28: VIVIENDA FORESTAL
A29: Vivienda forestal | B29: alquiler vivienda forestal por Ha | F29: 0
A30: VALOR PARCIAL VIVIENDA FORESTAL | F30: =SUM(F29) -> 0
F31: =IF(OR(D31="",E31=""),"",D31*E31)
A33: PRECIO UNITARIO OFERTADO SEGÚN APU | F33: =+F14+F18+F22+F26+F30 -> 0
A36: NOTAS DE DILIGENCIAMIENTO
A37: 1. El oferente deberá desagregar los recursos que componen el precio unitario de la actividad y diligenciar únicamente las celdas resaltadas.
A38: 2. El valor parcial se calcula automáticamente como Cantidad/Rendimiento × Valor unitario.
A39: 3. El precio unitario del APU debe incluir todos los costos directos e indirectos necesarios para ejecutar la actividad de conformidad con el Anexo Técnico.
A40: 4. La omisión de un recurso necesario para la correcta ejecución de la actividad no dará lugar al reconocimiento de valores adicionales durante la ejecución contractual.
A41: 5. El suministro del material vegetal se realizará de acuerdo con lo establecido para cada actividad. Cuando el APU indique que las plántulas serán suministradas por el contratista, este deberá incluir su costo de adquisición y los demás costos asociados a su manejo y disposición en campo. Cuando el material vegetal sea suministrado por el Distrito, no deberá cotizarse su adquisición, pero deberán incluirse los costos de cargue, transporte, descargue, manejo y distribución que correspondan.
A42: 6. En las actividades de mantenimiento con fertilización, los insumos efectivamente requeridos podrán variar según las condiciones técnicas y edáficas del predio y las instrucciones de la supervisión.

Sheet APU 1.07 Mto2 1736
A1: ANÁLISIS DE PRECIOS UNITARIOS – APU DEL OFERENTE
A3: Ítem | B3: 1.07
A4: Descripción | B4: 2da ronda mantenimiento densidad 1.736 árb/ha con fertilización y con resiembra
A5: Unidad contractual | B5: ha
A6: Cantidad estimada | B6: 12
A7: Jornal | B7: 0
A8: Tipo de recurso | B8: Descripción | C8: Unidad | D8: Cantidad unidades/ha | E8: Valor unitario | F8: Valor parcial
A9: MANO DE OBRA
A10: Capataz | B10: Se debe calcular un jornal diferencial para el capataz (técnico) que debe estar acorde a las exigencias técnicas para la realización de las actividades solicitadas para esta plantación | C10: Jornal 1 | E10: 0 | F10: =+D10*E10 -> 0
A11: Limpia | C11: Jornal | E11: =+$B$7 -> 0 | F11: =+D11*E11 -> 0
A12: Replateo con aporque | C12: Jornal | E12: =+$B$7 -> 0 | F12: =+D12*E12 -> 0
A13: Replantar+aporque+distribución interna plántulas | C13: Jornal | E13: =+$B$7 -> 0 | F13: =+D13*E13 -> 0
A14: Fertilización+transporte interno de insumos | C14: Jornal | E14: =+$B$7 -> 0 | F14: =+D14*E14 -> 0
A15: Control fitosanitario | C15: Jornal | E15: =+$B$7 -> 0 | F15: =+D15*E15 -> 0
A16: VALOR PARCIAL MANO DE OBRA | F16: =SUM(F10:F15) -> 0
A18: MATERIALES E INSUMOS
A19: Cal dolomitica 100 g | C19: Kg | D19: 173.6 | E19: 0 | F19: =+D19*E19 -> 0
A20: DAP (fosfato diamónico 18-46-0) 20 g | C20: Kg | D20: 34.72 | E20: 0 | F20: =+D20*E20 -> 0
A21: Bórax 5 g | C21: Kg | D21: 8.68 | E21: 0 | F21: =+D21*E21 -> 0
A22: Agrimins Granulado 10 g | C22: Kg | D22: 17.36 | E22: 0 | F22: =+D22*E22 -> 0
A23: Micorrizas 20 g | C23: Kg | D23: 34.72 | E23: 0 | F23: =+D23*E23 -> 0
A24: Insumo control Fitosanitario | C24: Kg | D24: 0.25 | E24: 0 | F24: =+D24*E24 -> 0
A25: Plántulas Resiembra suministradas por el contratista | B25: Suministradas por el contratista de acuerdo a las especificaciones descritas en los estudos previos | C25: Plántulas | D25: 173.6 | E25: 0 | F25: =+D25*E25 -> 0
A26: VALOR PARCIAL MATERIALES E INSUMOS | F26: =SUM(F19:F25) -> 0
A28: HERRAMIENTAS Y EQUIPOS
A29: Herramientas y Equipos | B29: 5% mano de obra | F29: =+F16*0.05 -> 0
A30: VALOR PARCIAL HERRAMIENTAS Y EQUIPOS | F30: =SUM(F29) -> 0
F31: =IF(OR(D31="",E31=""),"",D31*E31)
A32: TRANSPORTE Y LOGÍSTICA
A33: Transporte y logística | B33: 5% Valor de materiales e insumos | F33: =+F26*0.05 -> 0
A34: VALOR PARCIAL TRANSPORTE Y LOGÍSTICA | F34: =SUM(F33) -> 0
F35: =IF(OR(D35="",E35=""),"",D35*E35)
A36: VIVIENDA FORESTAL
A37: Vivienda forestal | B37: alquiler vivienda forestal por Ha | F37: 0
A38: VALOR PARCIAL VIVIENDA FORESTAL | F38: =SUM(F37) -> 0
F39: =IF(OR(D39="",E39=""),"",D39*E39)
A41: PRECIO UNITARIO OFERTADO SEGÚN APU | F41: =+F16+F26+F30+F34+F38 -> 0
A44: NOTAS DE DILIGENCIAMIENTO
A45: 1. El oferente deberá desagregar los recursos que componen el precio unitario de la actividad y diligenciar únicamente las celdas resaltadas.
A46: 2. El valor parcial se calcula automáticamente como Cantidad/Rendimiento × Valor unitario.
...

Sheet APU 1.08 Mto1 2887
A1: ANÁLISIS DE PRECIOS UNITARIOS – APU DEL OFERENTE
A3: Ítem | B3: 1.08
A4: Descripción | B4: 1ra ronda mantenimiento densidad 2.887 árb/ha sin fertilización y sin resiembra
A5: Unidad contractual | B5: ha
A6: Cantidad estimada | B6: 28.5
A7: Jornal | B7: 0
A8: Tipo de recurso | B8: Descripción | C8: Unidad | D8: Cantidad unidades/ha | E8: Valor unitario | F8: Valor parcial
A9: MANO DE OBRA
A10: Capataz | B10: Se debe calcular un jornal diferencial para el capataz (técnico) que debe estar acorde a las exigencias técnicas para la realización de las actividades solicitadas para esta plantación | C10: Jornal 1 | E10: 0 | F10: =+D10*E10 -> 0
A11: Limpia | C11: Jornal | E11: =+$B$7 -> 0 | F11: =+D11*E11 -> 0
A12: Replateo+aporque | C12: Jornal | E12: =+$B$7 -> 0 | F12: =+D12*E12 -> 0
A13: Control fitosanitario | C13: Jornal | E13: =+$B$7 -> 0 | F13: =+D13*E13 -> 0
A14: VALOR PARCIAL MANO DE OBRA | F14: =SUM(F10:F13) -> 0
A16: MATERIALES E INSUMOS
A17: Insumo control Fitosanitario | C17: Kg | D17: 0.25 | E17: 0 | F17: =+D17*E17 -> 0
A18: VALOR PARCIAL MATERIALES E INSUMOS | F18: =SUM(F17:F17) -> 0
A20: HERRAMIENTAS Y EQUIPOS
A21: Herramientas y Equipos | B21: 5% mano de obra | F21: =+F14*0.05 -> 0
A22: VALOR PARCIAL HERRAMIENTAS Y EQUIPOS | F22: =SUM(F21) -> 0
F23: =IF(OR(D23="",E23=""),"",D23*E23)
A24: TRANSPORTE Y LOGÍSTICA
A25: Transporte y logística | B25: 5% Valor de materiales e insumos | F25: =+F18*0.05 -> 0
A26: VALOR PARCIAL TRANSPORTE Y LOGÍSTICA | F26: =SUM(F25) -> 0
F27: =IF(OR(D27="",E27=""),"",D27*E27)
A28: VIVIENDA FORESTAL
A29: Vivienda forestal | B29: alquiler vivienda forestal por Ha | F29: 0
A30: VALOR PARCIAL VIVIENDA FORESTAL | F30: =SUM(F29) -> 0
F31: =IF(OR(D31="",E31=""),"",D31*E31)
A33: PRECIO UNITARIO OFERTADO SEGÚN APU | F33: =+F14+F18+F22+F26+F30 -> 0
A36: NOTAS DE DILIGENCIAMIENTO
A37: 1. El oferente deberá desagregar los recursos que componen el precio unitario de la actividad y diligenciar únicamente las celdas resaltadas.
A38: 2. El valor parcial se calcula automáticamente como Cantidad/Rendimiento × Valor unitario.
A39: 3. El precio unitario del APU debe incluir todos los costos directos e indirectos necesarios para ejecutar la actividad de conformidad con el Anexo Técnico.
A40: 4. La omisión de un recurso necesario para la correcta ejecución de la actividad no dará lugar al reconocimiento de valores adicionales durante la ejecución contractual.
A41: 5. El suministro del material vegetal se realizará de acuerdo con lo establecido para cada actividad. Cuando el APU indique que las plántulas serán suministradas por el contratista, este deberá incluir su costo de adquisición y los demás costos asociados a su manejo y disposición en campo. Cuando el material vegetal sea suministrado por el Distrito, no deberá cotizarse su adquisición, pero deberán incluirse los costos de cargue, transporte, descargue, manejo y distribución que correspondan.
A42: 6. En las actividades de mantenimiento con fertilización, los insumos efectivamente requeridos podrán variar según las condiciones técnicas y edáficas del predio y las instrucciones de la supervisión.

Sheet APU 1.09 Mto2 2887
A1: ANÁLISIS DE PRECIOS UNITARIOS – APU DEL OFERENTE
A3: Ítem | B3: 1.09
A4: Descripción | B4: 2da ronda mantenimiento densidad 2.887 árb/ha con fertilización y con resiembra
A5: Unidad contractual | B5: ha
A6: Cantidad estimada | B6: 28.5
A7: Jornal | B7: 0
A8: Tipo de recurso | B8: Descripción | C8: Unidad | D8: Cantidad unidades/ha | E8: Valor unitario | F8: Valor parcial
A9: MANO DE OBRA
A10: Capataz | B10: Se debe calcular un jornal diferencial para el capataz (técnico) que debe estar acorde a las exigencias técnicas para la realización de las actividades solicitadas para esta plantación | C10: Jornal 1 | E10: 0 | F10: =+D10*E10 -> 0
A11: Limpia | C11: Jornal | E11: =+$B$7 -> 0 | F11: =+D11*E11 -> 0
A12: Replateo con aporque | C12: Jornal | E12: =+$B$7 -> 0 | F12: =+D12*E12 -> 0
A13: Replantar+aporque+distribución interna plántulas | C13: Jornal | E13: =+$B$7 -> 0 | F13: =+D13*E13 -> 0
A14: Fertilización+transporte interno de insumos | C14: Jornal | E14: =+$B$7 -> 0 | F14: =+D14*E14 -> 0
A15: Control fitosanitario | C15: Jornal | E15: =+$B$7 -> 0 | F15: =+D15*E15 -> 0
A16: VALOR PARCIAL MANO DE OBRA | F16: =SUM(F10:F15) -> 0
A18: MATERIALES E INSUMOS
A19: Cal dolomitica 100 g | C19: Kg | D19: 288.7 | E19: 0 | F19: =+D19*E19 -> 0
A20: DAP (fosfato diamónico 18-46-0) 20 g | C20: Kg | D20: 57.74 | E20: 0 | F20: =+D20*E20 -> 0
A21: Bórax 5 g | C21: Kg | D21: 14.435 | E21: 0 | F21: =+D21*E21 -> 0
A22: Agrimins Granulado 10 g | C22: Kg | D22: 28.87 | E22: 0 | F22: =+D22*E22 -> 0
A23: Micorrizas 20 g | C23: Kg | D23: 57.74 | E23: 0 | F23: =+D23*E23 -> 0
A24: Insumo control Fitosanitario | C24: Kg | D24: 0.25 | E24: 0 | F24: =+D24*E24 -> 0
A25: Plántulas Resiembra suministradas por el contratista | B25: Suministradas por el contratista de acuerdo a las especificaciones descritas en los estudos previos | C25: Plántulas | D25: 288.7 | E25: 0 | F25: =+D25*E25 -> 0
A26: VALOR PARCIAL MATERIALES E INSUMOS | F26: =SUM(F19:F25) -> 0
A28: HERRAMIENTAS Y EQUIPOS
A29: Herramientas y Equipos | B29: 5% mano de obra | F29: =+F16*0.05 -> 0
A30: VALOR PARCIAL HERRAMIENTAS Y EQUIPOS | F30: =SUM(F29) -> 0
F31: =IF(OR(D31="",E31=""),"",D31*E31)
A32: TRANSPORTE Y LOGÍSTICA
A33: Transporte y logística | B33: 5% Valor de materiales e insumos | F33: =+F26*0.05 -> 0
A34: VALOR PARCIAL TRANSPORTE Y LOGÍSTICA | F34: =SUM(F33) -> 0
F35: =IF(OR(D35="",E35=""),"",D35*E35)
A36: VIVIENDA FORESTAL
A37: Vivienda forestal | B37: alquiler vivienda forestal por Ha | F37: 0
A38: VALOR PARCIAL VIVIENDA FORESTAL | F38: =SUM(F37) -> 0
F39: =IF(OR(D39="",E39=""),"",D39*E39)
A41: PRECIO UNITARIO OFERTADO SEGÚN APU | F41: =+F16+F26+F30+F34+F38 -> 0
A44: NOTAS DE DILIGENCIAMIENTO
A45: 1. El oferente deberá desagregar los recursos que componen el precio unitario de la actividad y diligenciar únicamente las celdas resaltadas.
A46: 2. El valor parcial se calcula automáticamente como Cantidad/Rendimiento × Valor unitario.
...

Sheet APU 1.10 Mto1 2036
A1: ANÁLISIS DE PRECIOS UNITARIOS – APU DEL OFERENTE
A3: Ítem | B3: 1.10
A4: Descripción | B4: 1ra ronda mantenimiento densidad 2.036 árb/ha sin fertilización y sin resiembra
A5: Unidad contractual | B5: ha
A6: Cantidad estimada | B6: 10
A7: Jornal | B7: 0
A8: Tipo de recurso | B8: Descripción | C8: Unidad | D8: Cantidad unidades/ha | E8: Valor unitario | F8: Valor parcial
A9: MANO DE OBRA
A10: Capataz | B10: Se debe calcular un jornal diferencial para el capataz (técnico) que debe estar acorde a las exigencias técnicas para la realización de las actividades solicitadas para esta plantación | C10: Jornal 1 | E10: 0 | F10: =+D10*E10 -> 0
A11: Limpia | C11: Jornal | E11: =+$B$7 -> 0 | F11: =+D11*E11 -> 0
A12: Replateo+aporque | C12: Jornal | E12: =+$B$7 -> 0 | F12: =+D12*E12 -> 0
A13: Control fitosanitario | C13: Jornal | E13: =+$B$7 -> 0 | F13: =+D13*E13 -> 0
A14: VALOR PARCIAL MANO DE OBRA | F14: =SUM(F10:F13) -> 0
A16: MATERIALES E INSUMOS
A17: Insumo control Fitosanitario | C17: Kg | D17: 0.25 | E17: 0 | F17: =+D17*E17 -> 0
A18: VALOR PARCIAL MATERIALES E INSUMOS | F18: =SUM(F17:F17) -> 0
A20: HERRAMIENTAS Y EQUIPOS
A21: Herramientas y Equipos | B21: 5% mano de obra | F21: =+F14*0.05 -> 0
A22: VALOR PARCIAL HERRAMIENTAS Y EQUIPOS | F22: =SUM(F21) -> 0
F23: =IF(OR(D23="",E23=""),"",D23*E23)
A24: TRANSPORTE Y LOGÍSTICA
A25: Transporte y logística | B25: 5% Valor de materiales e insumos | F25: =+F18*0.05 -> 0
A26: VALOR PARCIAL TRANSPORTE Y LOGÍSTICA | F26: =SUM(F25) -> 0
F27: =IF(OR(D27="",E27=""),"",D27*E27)
A28: VIVIENDA FORESTAL
A29: Vivienda forestal | B29: alquiler vivienda forestal por Ha | F29: 0
A30: VALOR PARCIAL VIVIENDA FORESTAL | F30: =SUM(F29) -> 0
F31: =IF(OR(D31="",E31=""),"",D31*E31)
A33: PRECIO UNITARIO OFERTADO SEGÚN APU | F33: =+F14+F18+F22+F26+F30 -> 0
A36: NOTAS DE DILIGENCIAMIENTO
A37: 1. El oferente deberá desagregar los recursos que componen el precio unitario de la actividad y diligenciar únicamente las celdas resaltadas.
A38: 2. El valor parcial se calcula automáticamente como Cantidad/Rendimiento × Valor unitario.
A39: 3. El precio unitario del APU debe incluir todos los costos directos e indirectos necesarios para ejecutar la actividad de conformidad con el Anexo Técnico.
A40: 4. La omisión de un recurso necesario para la correcta ejecución de la actividad no dará lugar al reconocimiento de valores adicionales durante la ejecución contractual.
A41: 5. El suministro del material vegetal se realizará de acuerdo con lo establecido para cada actividad. Cuando el APU indique que las plántulas serán suministradas por el contratista, este deberá incluir su costo de adquisición y los demás costos asociados a su manejo y disposición en campo. Cuando el material vegetal sea suministrado por el Distrito, no deberá cotizarse su adquisición, pero deberán incluirse los costos de cargue, transporte, descargue, manejo y distribución que correspondan.
A42: 6. En las actividades de mantenimiento con fertilización, los insumos efectivamente requeridos podrán variar según las condiciones técnicas y edáficas del predio y las instrucciones de la supervisión.
F44: =IF(OR(D44="",E44=""),"",D44*E44)

Sheet APU 1.11 Mto2 2036
A1: ANÁLISIS DE PRECIOS UNITARIOS – APU DEL OFERENTE
A3: Ítem | B3: 1.11
A4: Descripción | B4: 2da ronda mantenimiento densidad 2.036 árb/ha con fertilización y con resiembra
A5: Unidad contractual | B5: ha
A6: Cantidad estimada | B6: 10
A7: Jornal | B7: 0
A8: Tipo de recurso | B8: Descripción | C8: Unidad | D8: Cantidad unidades/ha | E8: Valor unitario | F8: Valor parcial
A9: MANO DE OBRA
A10: Capataz | B10: Se debe calcular un jornal diferencial para el capataz (técnico) que debe estar acorde a las exigencias técnicas para la realización de las actividades solicitadas para esta plantación | C10: Jornal 1 | E10: 0 | F10: =+D10*E10 -> 0
A11: Limpia | C11: Jornal | E11: =+$B$7 -> 0 | F11: =+D11*E11 -> 0
A12: Replateo con aporque | C12: Jornal | E12: =+$B$7 -> 0 | F12: =+D12*E12 -> 0
A13: Replantar+aporque+distribución interna plántulas | C13: Jornal | E13: =+$B$7 -> 0 | F13: =+D13*E13 -> 0
A14: Fertilización+transporte interno de insumos | C14: Jornal | E14: =+$B$7 -> 0 | F14: =+D14*E14 -> 0
A15: Control fitosanitario | C15: Jornal | E15: =+$B$7 -> 0 | F15: =+D15*E15 -> 0
A16: VALOR PARCIAL MANO DE OBRA | F16: =SUM(F10:F15) -> 0
A18: MATERIALES E INSUMOS
A19: Cal dolomitica 100 g | C19: Kg | D19: 203.6 | E19: 0 | F19: =+D19*E19 -> 0
A20: DAP (fosfato diamónico 18-46-0) 20 g | C20: Kg | D20: 40.72 | E20: 0 | F20: =+D20*E20 -> 0
A21: Bórax 5 g | C21: Kg | D21: 10.18 | E21: 0 | F21: =+D21*E21 -> 0
A22: Agrimins Granulado 10 g | C22: Kg | D22: 20.36 | E22: 0 | F22: =+D22*E22 -> 0
A23: Micorrizas 20 g | C23: Kg | D23: 40.72 | E23: 0 | F23: =+D23*E23 -> 0
A24: Insumo control Fitosanitario | C24: Kg | D24: 0.25 | E24: 0 | F24: =+D24*E24 -> 0
A25: Plántulas Resiembra suministradas vivero Las Cometas | B25: Suministradas por la Secretaría del Medio Ambiente en el vivero Las Cometas. El contratista deberá cotizar para ello el cargue y el descargue, al igual que el transporte de las mismas, desde el vivero al sitio de siembra. | C25: Plántulas | D25: 203.6 | E25: 0 | F25: =+D25*E25 -> 0
A26: VALOR PARCIAL MATERIALES E INSUMOS | F26: =SUM(F19:F25) -> 0
A28: HERRAMIENTAS Y EQUIPOS
A29: Herramientas y Equipos | B29: 5% mano de obra | F29: =+F16*0.05 -> 0
A30: VALOR PARCIAL HERRAMIENTAS Y EQUIPOS | F30: =SUM(F29) -> 0
F31: =IF(OR(D31="",E31=""),"",D31*E31)
A32: TRANSPORTE Y LOGÍSTICA
A33: Transporte y logística | B33: 5% Valor de materiales e insumos | F33: =+F26*0.05 -> 0
A34: VALOR PARCIAL TRANSPORTE Y LOGÍSTICA | F34: =SUM(F33) -> 0
F35: =IF(OR(D35="",E35=""),"",D35*E35)
A36: VIVIENDA FORESTAL
A37: Vivienda forestal | B37: alquiler vivienda forestal por Ha | F37: 0
A38: VALOR PARCIAL VIVIENDA FORESTAL | F38: =SUM(F37) -> 0
F39: =IF(OR(D39="",E39=""),"",D39*E39)
A41: PRECIO UNITARIO OFERTADO SEGÚN APU | F41: =+F16+F26+F30+F34+F38 -> 0
A44: NOTAS DE DILIGENCIAMIENTO
A45: 1. El oferente deberá desagregar los recursos que componen el precio unitario de la actividad y diligenciar únicamente las celdas resaltadas.
A46: 2. El valor parcial se calcula automáticamente como Cantidad/Rendimiento × Valor unitario.
...

Sheet APU 2.01 Rocería
A1: ANÁLISIS DE PRECIOS UNITARIOS – APU DEL OFERENTE
A3: Ítem | B3: 2.01
A4: Descripción | B4: Rocería y limpieza hasta cualquier altura de la vegetación, incluye desenraice de árboles hasta la altura de la vegetación y de diámetro inferiores a 10 cm. La rocería se realizará a ras de piso. Se utilizará guadaña o machete.
A5: Unidad contractual | B5: m²
A6: Cantidad estimada | B6: 500
A8: Tipo de recurso | B8: Descripción | C8: Unidad | D8: Cantidad / rendimiento | E8: Valor unitario | F8: Valor parcial
A9: MANO DE OBRA
F10: =IF(OR(D10="",E10=""),"",D10*E10)
F11: =IF(OR(D11="",E11=""),"",D11*E11)
F12: =IF(OR(D12="",E12=""),"",D12*E12)
F13: =IF(OR(D13="",E13=""),"",D13*E13)
F14: =IF(OR(D14="",E14=""),"",D14*E14)
A15: MATERIALES E INSUMOS
F16: =IF(OR(D16="",E16=""),"",D16*E16)
F17: =IF(OR(D17="",E17=""),"",D17*E17)
F18: =IF(OR(D18="",E18=""),"",D18*E18)
F19: =IF(OR(D19="",E19=""),"",D19*E19)
F20: =IF(OR(D20="",E20=""),"",D20*E20)
F21: =IF(OR(D21="",E21=""),"",D21*E21)
F22: =IF(OR(D22="",E22=""),"",D22*E22)
F23: =IF(OR(D23="",E23=""),"",D23*E23)
F24: =IF(OR(D24="",E24=""),"",D24*E24)
F25: =IF(OR(D25="",E25=""),"",D25*E25)
A26: HERRAMIENTAS Y EQUIPOS
F27: =IF(OR(D27="",E27=""),"",D27*E27)
F28: =IF(OR(D28="",E28=""),"",D28*E28)
F29: =IF(OR(D29="",E29=""),"",D29*E29)
F30: =IF(OR(D30="",E30=""),"",D30*E30)
F31: =IF(OR(D31="",E31=""),"",D31*E31)
A32: TRANSPORTE Y LOGÍSTICA
F33: =IF(OR(D33="",E33=""),"",D33*E33)
F34: =IF(OR(D34="",E34=""),"",D34*E34)
F35: =IF(OR(D35="",E35=""),"",D35*E35)
F36: =IF(OR(D36="",E36=""),"",D36*E36)
F37: =IF(OR(D37="",E37=""),"",D37*E37)
A38: SEGURIDAD Y SALUD EN EL TRABAJO – SST / EPP
F39: =IF(OR(D39="",E39=""),"",D39*E39)
F40: =IF(OR(D40="",E40=""),"",D40*E40)
F41: =IF(OR(D41="",E41=""),"",D41*E41)
F42: =IF(OR(D42="",E42=""),"",D42*E42)
...

Sheet APU 2.02 Mojón
A1: ANÁLISIS DE PRECIOS UNITARIOS – APU DEL OFERENTE
A3: Ítem | B3: 2.02
A4: Descripción | B4: Instalación de mojón de plástico de 2,20 m de longitud, sección de 0,10 x 0,10 m, pintados con esmalte color amarillo, estarán enterrados 70 cm, la excavación debe ser de 0,25 m de diámetro, el espacio entre los bordes del orificio y el poste se rellenará en concreto de 17 Mpa en toda su profundidad (70cm), el mojón debe quedar pintado en toda la superficie que quede a la vista con esmalte a base de aceite, la superficie debe quedar pareja y homogénea. Incluye suministro y transporte de todos los materiales. La ubicación de los mojones será indicada por la interventoría o el supervisor
A5: Unidad contractual | B5: un
A6: Cantidad estimada | B6: 10
A8: Tipo de recurso | B8: Descripción | C8: Unidad | D8: Cantidad / rendimiento | E8: Valor unitario | F8: Valor parcial
A9: MANO DE OBRA
F10: =IF(OR(D10="",E10=""),"",D10*E10)
F11: =IF(OR(D11="",E11=""),"",D11*E11)
F12: =IF(OR(D12="",E12=""),"",D12*E12)
F13: =IF(OR(D13="",E13=""),"",D13*E13)
F14: =IF(OR(D14="",E14=""),"",D14*E14)
A15: MATERIALES E INSUMOS
F16: =IF(OR(D16="",E16=""),"",D16*E16)
F17: =IF(OR(D17="",E17=""),"",D17*E17)
F18: =IF(OR(D18="",E18=""),"",D18*E18)
F19: =IF(OR(D19="",E19=""),"",D19*E19)
F20: =IF(OR(D20="",E20=""),"",D20*E20)
F21: =IF(OR(D21="",E21=""),"",D21*E21)
F22: =IF(OR(D22="",E22=""),"",D22*E22)
F23: =IF(OR(D23="",E23=""),"",D23*E23)
F24: =IF(OR(D24="",E24=""),"",D24*E24)
F25: =IF(OR(D25="",E25=""),"",D25*E25)
A26: HERRAMIENTAS Y EQUIPOS
F27: =IF(OR(D27="",E27=""),"",D27*E27)
F28: =IF(OR(D28="",E28=""),"",D28*E28)
F29: =IF(OR(D29="",E29=""),"",D29*E29)
F30: =IF(OR(D30="",E30=""),"",D30*E30)
F31: =IF(OR(D31="",E31=""),"",D31*E31)
A32: TRANSPORTE Y LOGÍSTICA
F33: =IF(OR(D33="",E33=""),"",D33*E33)
F34: =IF(OR(D34="",E34=""),"",D34*E34)
F35: =IF(OR(D35="",E35=""),"",D35*E35)
F36: =IF(OR(D36="",E36=""),"",D36*E36)
F37: =IF(OR(D37="",E37=""),"",D37*E37)
A38: SEGURIDAD Y SALUD EN EL TRABAJO – SST / EPP
F39: =IF(OR(D39="",E39=""),"",D39*E39)
F40: =IF(OR(D40="",E40=""),"",D40*E40)
F41: =IF(OR(D41="",E41=""),"",D41*E41)
F42: =IF(OR(D42="",E42=""),"",D42*E42)
...

Sheet APU 2.03 Cerco
A1: ANÁLISIS DE PRECIOS UNITARIOS – APU DEL OFERENTE
A3: Ítem | B3: 2.03
A4: Descripción | B4: Instalación de cerco. Comprende suministro, transporte e instalación de estacones de madera inmunizada de 10 cm de diámetro y 2,20 m de longitud, con punta en forma de cono o lápiz, enterrados una profundidad de 60 cm, y apisonados con el mismo terreno, separados entre si por 2,50 m máximo, con una capa de impermeabilizante en la pata del estacón que está en contacto directo con el terreno (aproximadamente de 70 cm), y pintados en el cono con pintura amarilla a base de aceite (30 cm), con 5 líneas de alambre de púas calibre 14 y con una separación entre estas de 25 cm mínimo; incluye también excavación manual en cualquier material y todos los demás elementos necesarios para su correcta instalación.
A5: Unidad contractual | B5: m
A6: Cantidad estimada | B6: 1000
A8: Tipo de recurso | B8: Descripción | C8: Unidad | D8: Cantidad / rendimiento | E8: Valor unitario | F8: Valor parcial
A9: MANO DE OBRA
F10: =IF(OR(D10="",E10=""),"",D10*E10)
F11: =IF(OR(D11="",E11=""),"",D11*E11)
F12: =IF(OR(D12="",E12=""),"",D12*E12)
F13: =IF(OR(D13="",E13=""),"",D13*E13)
F14: =IF(OR(D14="",E14=""),"",D14*E14)
A15: MATERIALES E INSUMOS
F16: =IF(OR(D16="",E16=""),"",D16*E16)
F17: =IF(OR(D17="",E17=""),"",D17*E17)
F18: =IF(OR(D18="",E18=""),"",D18*E18)
F19: =IF(OR(D19="",E19=""),"",D19*E19)
F20: =IF(OR(D20="",E20=""),"",D20*E20)
F21: =IF(OR(D21="",E21=""),"",D21*E21)
F22: =IF(OR(D22="",E22=""),"",D22*E22)
F23: =IF(OR(D23="",E23=""),"",D23*E23)
F24: =IF(OR(D24="",E24=""),"",D24*E24)
F25: =IF(OR(D25="",E25=""),"",D25*E25)
A26: HERRAMIENTAS Y EQUIPOS
F27: =IF(OR(D27="",E27=""),"",D27*E27)
F28: =IF(OR(D28="",E28=""),"",D28*E28)
F29: =IF(OR(D29="",E29=""),"",D29*E29)
F30: =IF(OR(D30="",E30=""),"",D30*E30)
F31: =IF(OR(D31="",E31=""),"",D31*E31)
A32: TRANSPORTE Y LOGÍSTICA
F33: =IF(OR(D33="",E33=""),"",D33*E33)
F34: =IF(OR(D34="",E34=""),"",D34*E34)
F35: =IF(OR(D35="",E35=""),"",D35*E35)
F36: =IF(OR(D36="",E36=""),"",D36*E36)
F37: =IF(OR(D37="",E37=""),"",D37*E37)
A38: SEGURIDAD Y SALUD EN EL TRABAJO – SST / EPP
F39: =IF(OR(D39="",E39=""),"",D39*E39)
F40: =IF(OR(D40="",E40=""),"",D40*E40)
F41: =IF(OR(D41="",E41=""),"",D41*E41)
F42: =IF(OR(D42="",E42=""),"",D42*E42)
...

Sheet APU 2.04 Anclaje
A1: ANÁLISIS DE PRECIOS UNITARIOS – APU DEL OFERENTE
A3: Ítem | B3: 2.04
A4: Descripción | B4: Anclado para poste de madera inmunizada en concreto de 21 Mpa, estarán enterrados 70 cm, la excavación debe ser de 0,25 m de diámetro, el espacio entre los bordes del orificio y el poste se rellenará en concreto de 17 Mpa en toda su profundidad (70cm). Incluye suministro y transporte de todos los materiales. (Determinado por el interventor y el supervisor)
A5: Unidad contractual | B5: un
A6: Cantidad estimada | B6: 67
A8: Tipo de recurso | B8: Descripción | C8: Unidad | D8: Cantidad / rendimiento | E8: Valor unitario | F8: Valor parcial
A9: MANO DE OBRA
F10: =IF(OR(D10="",E10=""),"",D10*E10)
F11: =IF(OR(D11="",E11=""),"",D11*E11)
F12: =IF(OR(D12="",E12=""),"",D12*E12)
F13: =IF(OR(D13="",E13=""),"",D13*E13)
F14: =IF(OR(D14="",E14=""),"",D14*E14)
A15: MATERIALES E INSUMOS
F16: =IF(OR(D16="",E16=""),"",D16*E16)
F17: =IF(OR(D17="",E17=""),"",D17*E17)
F18: =IF(OR(D18="",E18=""),"",D18*E18)
F19: =IF(OR(D19="",E19=""),"",D19*E19)
F20: =IF(OR(D20="",E20=""),"",D20*E20)
F21: =IF(OR(D21="",E21=""),"",D21*E21)
F22: =IF(OR(D22="",E22=""),"",D22*E22)
F23: =IF(OR(D23="",E23=""),"",D23*E23)
F24: =IF(OR(D24="",E24=""),"",D24*E24)
F25: =IF(OR(D25="",E25=""),"",D25*E25)
A26: HERRAMIENTAS Y EQUIPOS
F27: =IF(OR(D27="",E27=""),"",D27*E27)
F28: =IF(OR(D28="",E28=""),"",D28*E28)
F29: =IF(OR(D29="",E29=""),"",D29*E29)
F30: =IF(OR(D30="",E30=""),"",D30*E30)
F31: =IF(OR(D31="",E31=""),"",D31*E31)
A32: TRANSPORTE Y LOGÍSTICA
F33: =IF(OR(D33="",E33=""),"",D33*E33)
F34: =IF(OR(D34="",E34=""),"",D34*E34)
F35: =IF(OR(D35="",E35=""),"",D35*E35)
F36: =IF(OR(D36="",E36=""),"",D36*E36)
F37: =IF(OR(D37="",E37=""),"",D37*E37)
A38: SEGURIDAD Y SALUD EN EL TRABAJO – SST / EPP
F39: =IF(OR(D39="",E39=""),"",D39*E39)
F40: =IF(OR(D40="",E40=""),"",D40*E40)
F41: =IF(OR(D41="",E41=""),"",D41*E41)
F42: =IF(OR(D42="",E42=""),"",D42*E42)
...

Sheet APU 2.05 Mto cerco
A1: ANÁLISIS DE PRECIOS UNITARIOS – APU DEL OFERENTE
A3: Ítem | B3: 2.05
A4: Descripción | B4: Mantenimiento de cercos actuales de madera inmunizada. Incluye roceria de la base del estacón, temple del alambre de puas y pintura en el cono con pintura amarilla a base de aceite (30 cm) y todo lo necesario para su correcto funcionamiento.
A5: Unidad contractual | B5: m
A6: Cantidad estimada | B6: 20
A8: Tipo de recurso | B8: Descripción | C8: Unidad | D8: Cantidad / rendimiento | E8: Valor unitario | F8: Valor parcial
A9: MANO DE OBRA
F10: =IF(OR(D10="",E10=""),"",D10*E10)
F11: =IF(OR(D11="",E11=""),"",D11*E11)
F12: =IF(OR(D12="",E12=""),"",D12*E12)
F13: =IF(OR(D13="",E13=""),"",D13*E13)
F14: =IF(OR(D14="",E14=""),"",D14*E14)
A15: MATERIALES E INSUMOS
F16: =IF(OR(D16="",E16=""),"",D16*E16)
F17: =IF(OR(D17="",E17=""),"",D17*E17)
F18: =IF(OR(D18="",E18=""),"",D18*E18)
F19: =IF(OR(D19="",E19=""),"",D19*E19)
F20: =IF(OR(D20="",E20=""),"",D20*E20)
F21: =IF(OR(D21="",E21=""),"",D21*E21)
F22: =IF(OR(D22="",E22=""),"",D22*E22)
F23: =IF(OR(D23="",E23=""),"",D23*E23)
F24: =IF(OR(D24="",E24=""),"",D24*E24)
F25: =IF(OR(D25="",E25=""),"",D25*E25)
A26: HERRAMIENTAS Y EQUIPOS
F27: =IF(OR(D27="",E27=""),"",D27*E27)
F28: =IF(OR(D28="",E28=""),"",D28*E28)
F29: =IF(OR(D29="",E29=""),"",D29*E29)
F30: =IF(OR(D30="",E30=""),"",D30*E30)
F31: =IF(OR(D31="",E31=""),"",D31*E31)
A32: TRANSPORTE Y LOGÍSTICA
F33: =IF(OR(D33="",E33=""),"",D33*E33)
F34: =IF(OR(D34="",E34=""),"",D34*E34)
F35: =IF(OR(D35="",E35=""),"",D35*E35)
F36: =IF(OR(D36="",E36=""),"",D36*E36)
F37: =IF(OR(D37="",E37=""),"",D37*E37)
A38: SEGURIDAD Y SALUD EN EL TRABAJO – SST / EPP
F39: =IF(OR(D39="",E39=""),"",D39*E39)
F40: =IF(OR(D40="",E40=""),"",D40*E40)
F41: =IF(OR(D41="",E41=""),"",D41*E41)
F42: =IF(OR(D42="",E42=""),"",D42*E42)
...
